BEGIN:VCALENDAR
VERSION:2.0
PRODID:-//eventon.com NONSGML v1.0//EN
CALSCALE:GREGORIAN
METHOD:PUBLISH
BEGIN:VEVENT
UID:69e7483545981
DTSTAMP:20260421T094941Z
DTSTART:20221003T013000Z
DTEND:20221003T023000Z
LOCATION:
SUMMARY:Kerk open
DESCRIPTION:Even tot rust komen? De kerk is open voor bezinning en gebed.\n
 https://sintjoriskerk-amersfoort.nl/events/kerk-open/
URL:https://sintjoriskerk-amersfoort.nl/events/kerk-open/
END:VEVENT
END:VCALENDAR