BEGIN:VCALENDAR
VERSION:2.0
PRODID:-//eventon.com NONSGML v1.0//EN
CALSCALE:GREGORIAN
METHOD:PUBLISH
BEGIN:VEVENT
UID:69e7386a8ce0a
DTSTAMP:20260421T084218Z
DTSTART:20221010T013000Z
DTEND:20221010T023000Z
LOCATION:
SUMMARY:Kerk open
DESCRIPTION:Even tot rust komen? De kerk is open voor bezinning en gebed.\n
 https://sintjoriskerk-amersfoort.nl/events/kerk-open/var/ri-1.l-L1
URL:https://sintjoriskerk-amersfoort.nl/events/kerk-open/var/ri-1.l-L1
END:VEVENT
END:VCALENDAR