BEGIN:VCALENDAR
VERSION:2.0
PRODID:-//eventon.com NONSGML v1.0//EN
CALSCALE:GREGORIAN
METHOD:PUBLISH
BEGIN:VEVENT
UID:69e74a0f8f203
DTSTAMP:20260421T095735Z
DTSTART:20230109T070000Z
DTEND:20230109T090000Z
LOCATION:
SUMMARY:Ichtus
DESCRIPTION:De periode tot januari 2023 komen we met Ichthus bij elkaar op 
 de volgende momenten: zondag 8 januari aansluitend aan de avonddienst.\nhtt
 ps://sintjoriskerk-amersfoort.nl/events/ichtus-5/
URL:https://sintjoriskerk-amersfoort.nl/events/ichtus-5/
END:VEVENT
END:VCALENDAR