BEGIN:VCALENDAR
VERSION:2.0
PRODID:-//eventon.com NONSGML v1.0//EN
CALSCALE:GREGORIAN
METHOD:PUBLISH
BEGIN:VEVENT
UID:69e762112d284
DTSTAMP:20260421T114001Z
DTSTART:20230119T070000Z
DTEND:20230119T083000Z
LOCATION:
SUMMARY:Studiekring
DESCRIPTION:De studiekring komt op de volgende woensdagen bijeen: 18 januar
 i\,  22 februari en 29 maart. Filalethes\,  20.00 uur. We gaan het boek “
 Lezen en laten lezen. Gelovig omgaan met de Bijbel” van dr. Arnold Huijge
 n lezen. Welkom!\nhttps://sintjoriskerk-amersfoort.nl/events/studiekring/
URL:https://sintjoriskerk-amersfoort.nl/events/studiekring/
END:VEVENT
END:VCALENDAR