BEGIN:VCALENDAR
VERSION:2.0
PRODID:-//eventon.com NONSGML v1.0//EN
CALSCALE:GREGORIAN
METHOD:PUBLISH
BEGIN:VEVENT
UID:69e777b971ed6
DTSTAMP:20260421T131225Z
DTSTART:20230223T070000Z
DTEND:20230223T083000Z
LOCATION:
SUMMARY:Studiekring
DESCRIPTION:De studiekring komt op de volgende woensdagen bijeen: 22 februa
 ri en 29 maart. Filalethes\,  20.00 uur. We gaan het boek “Lezen en laten
  lezen. Gelovig omgaan met de Bijbel” van dr. Arnold Huijgen lezen. Welko
 m!\nhttps://sintjoriskerk-amersfoort.nl/events/studiekring-2/
URL:https://sintjoriskerk-amersfoort.nl/events/studiekring-2/
END:VEVENT
END:VCALENDAR