BEGIN:VCALENDAR
VERSION:2.0
PRODID:-//eventon.com NONSGML v1.0//EN
CALSCALE:GREGORIAN
METHOD:PUBLISH
BEGIN:VEVENT
UID:69e78970d8a73
DTSTAMP:20260421T142800Z
DTSTART:20230330T070000Z
DTEND:20230330T083000Z
LOCATION:
SUMMARY:Studiekring
DESCRIPTION:De studiekring komt 29 maart. Filalethes\,  20.00 uur. We gaan 
 het boek “Lezen en laten lezen. Gelovig omgaan met de Bijbel” van dr. A
 rnold Huijgen lezen. Welkom!\nhttps://sintjoriskerk-amersfoort.nl/events/st
 udiekring-4/
URL:https://sintjoriskerk-amersfoort.nl/events/studiekring-4/
END:VEVENT
END:VCALENDAR