BEGIN:VCALENDAR
VERSION:2.0
PRODID:-//eventon.com NONSGML v1.0//EN
CALSCALE:GREGORIAN
METHOD:PUBLISH
BEGIN:VEVENT
UID:69e9e764cede3
DTSTAMP:20260423T093324Z
DTSTART:20230130T023000Z
DTEND:20230130T033000Z
LOCATION:Sint Joriskerk\,  Hof 1\,  3811 CJ Amersfoort Hof 1 3811 CJ Amersfoort
SUMMARY:Choral Evensong
DESCRIPTION:De Amersfoortse Cantorij onder leiding van Bas Ramselaar zingt 
 zondagmiddag 29 januari&nbsp;tijdens de Choral Evensong in de Sint-Jorisker
 k. Aanvang 15.30 uur\,  toegang vrij. Voorganger is ds. Rita Buijs-Ballast.
 &nbsp;Kijk voor meer informatie op www.evensongsamersfoort.nl\nhttps://sint
 joriskerk-amersfoort.nl/events/choral-evensong-sint-joriskerk-amersfoort/
URL:https://sintjoriskerk-amersfoort.nl/events/choral-evensong-sint-joriskerk-amersfoort/
END:VEVENT
END:VCALENDAR