BEGIN:VCALENDAR
VERSION:2.0
PRODID:-//eventon.com NONSGML v1.0//EN
CALSCALE:GREGORIAN
METHOD:PUBLISH
BEGIN:VEVENT
UID:69e8dc19e2993
DTSTAMP:20260422T143257Z
DTSTART:20230131T013000Z
DTEND:20230131T033000Z
LOCATION:
SUMMARY:Seniorenmiddag
DESCRIPTION:Welkom op de seniorenmiddag in Filalethes\nhttps://sintjorisker
 k-amersfoort.nl/events/seniorenmiddag/
URL:https://sintjoriskerk-amersfoort.nl/events/seniorenmiddag/
END:VEVENT
END:VCALENDAR