BEGIN:VCALENDAR
VERSION:2.0
PRODID:-//eventon.com NONSGML v1.0//EN
CALSCALE:GREGORIAN
METHOD:PUBLISH
BEGIN:VEVENT
UID:69e8c702206c7
DTSTAMP:20260422T130258Z
DTSTART:20230225T063000Z
DTEND:20230225T090000Z
LOCATION:Sint Joriskerk\,  Hof 1\,  3811 CJ Amersfoort Hof 1 3811 CJ Amersfoort
SUMMARY:Benefietconcert Noodhulp Turkije en Syrie
DESCRIPTION:Op vrijdag 24 februari om 19.30 uur in de St. Joriskerk. Aan di
 t benefietconcert werken mee:Herv. gemengde zangvereniging Vox Jubilans o.l
 .v. André van VlietChr. Sliedrechts Mannenkoor Ichthus o.l.v Martin Zonnen
 bergAndries Stigter\,  basArjan en Edith Post\,  trompettenCarine Petersen-
 Bossenbroek\,  panfluitMark Brandwijk\,  vleugelMartin Mans\,  orgelBestel 
 gratis uw kaart via koopjekaartje.nlBekijk het concert\,  doneren[..]\nhttp
 s://sintjoriskerk-amersfoort.nl/events/benefietconcert-noodhulp-turkije-en-
 syrie/
URL:https://sintjoriskerk-amersfoort.nl/events/benefietconcert-noodhulp-turkije-en-syrie/
END:VEVENT
END:VCALENDAR