BEGIN:VCALENDAR
VERSION:2.0
PRODID:-//eventon.com NONSGML v1.0//EN
CALSCALE:GREGORIAN
METHOD:PUBLISH
BEGIN:VEVENT
UID:69e8b1b16acac
DTSTAMP:20260422T113201Z
DTSTART:20230309T020000Z
DTEND:20230309T030000Z
LOCATION:Sint Joriskerk\,  Hof 1\,  3811 CJ Amersfoort Hof 1 3811 CJ Amersfoort
SUMMARY:Biddag kinderdienst
DESCRIPTION:\nhttps://sintjoriskerk-amersfoort.nl/events/biddag-kinderdiens
 t/
URL:https://sintjoriskerk-amersfoort.nl/events/biddag-kinderdienst/
END:VEVENT
END:VCALENDAR