BEGIN:VCALENDAR
VERSION:2.0
PRODID:-//eventon.com NONSGML v1.0//EN
CALSCALE:GREGORIAN
METHOD:PUBLISH
BEGIN:VEVENT
UID:69e89ae1b3887
DTSTAMP:20260422T095441Z
DTSTART:20230309T063000Z
DTEND:20230309T073000Z
LOCATION:Sint Joriskerk\,  Hof 1\,  3811 CJ Amersfoort Hof 1 3811 CJ Amersfoort
SUMMARY:Biddag dienst
DESCRIPTION:\nhttps://sintjoriskerk-amersfoort.nl/events/biddag-dienst/
URL:https://sintjoriskerk-amersfoort.nl/events/biddag-dienst/
END:VEVENT
END:VCALENDAR