BEGIN:VCALENDAR
VERSION:2.0
PRODID:-//eventon.com NONSGML v1.0//EN
CALSCALE:GREGORIAN
METHOD:PUBLISH
BEGIN:VEVENT
UID:69e5e0ea14e33
DTSTAMP:20260420T081642Z
DTSTART:20230413T070000Z
DTEND:20230413T090000Z
LOCATION:Adventcentrum\,  Ringweg Kruiskamp 74 Amersfoort Adventcentrum\,  Ringweg Kruiskamp 74 Amersfoort
SUMMARY:Lezing van Asaf Pelled over de breuk en het herstel tussen Israël en de kerk
DESCRIPTION:Asaf Pelled (geboren 1980) is in een kibboets opgegroeid als ee
 n seculiere Jood. Als hij het Nieuwe Testament leest\,  ontdekt hij dat het
  volgen van Jezus Christus hem juist meer Joods maakt. Hij werkt nu als Mes
 siaanse voorganger. Op 12 april houdt hij een lezing over de breuk tussen I
 sraël[..]\nhttps://sintjoriskerk-amersfoort.nl/events/lezing-van-asaf-pell
 ed-over-de-breuk-en-het-herstel-tussen-israel-en-de-kerk/
URL:https://sintjoriskerk-amersfoort.nl/events/lezing-van-asaf-pelled-over-de-breuk-en-het-herstel-tussen-israel-en-de-kerk/
END:VEVENT
END:VCALENDAR