BEGIN:VCALENDAR
VERSION:2.0
PRODID:-//eventon.com NONSGML v1.0//EN
CALSCALE:GREGORIAN
METHOD:PUBLISH
BEGIN:VEVENT
UID:69e8859f3ca80
DTSTAMP:20260422T082359Z
DTSTART:20231012T070000Z
DTEND:20231012T090000Z
LOCATION:Sint Joriskerk\,  Hof 1\,  3811 CJ Amersfoort Hof 1 3811 CJ Amersfoort
SUMMARY:Gemeenteavond rond beroepingswerk
DESCRIPTION:Tijdens deze gemeenteavond deelt de kerkenraad de profielschets
  van onze gemeente en de profielschets voor de nieuwe predikant. En de bero
 epingscommissie wordt voorgesteld.\nhttps://sintjoriskerk-amersfoort.nl/eve
 nts/gemeenteavond-rond-beroepingswerk/
URL:https://sintjoriskerk-amersfoort.nl/events/gemeenteavond-rond-beroepingswerk/
END:VEVENT
END:VCALENDAR