BEGIN:VCALENDAR
VERSION:2.0
PRODID:-//eventon.com NONSGML v1.0//EN
CALSCALE:GREGORIAN
METHOD:PUBLISH
BEGIN:VEVENT
UID:69e79e602733a
DTSTAMP:20260421T155720Z
DTSTART:20231109T063000Z
DTEND:20231109T071500Z
LOCATION:Sint Joriskerk\,  Hof 1\,  3811 CJ Amersfoort Hof 1 3811 CJ Amersfoort
SUMMARY:Bezinningsmoment
DESCRIPTION:Het bezinningsmoment vindt plaats in de week van voorbereiding 
 op de viering van het Heilig Avondmaal. Dat vindt plaats op de zondag na he
 t Bezinningsmoment. Tijdens het Bezinningsmoment zingen\,  bidden en luiste
 ren we naar een korte overdenking. En we zijn een moment stil.\nhttps://sin
 tjoriskerk-amersfoort.nl/events/bezinningsmoment-2/
URL:https://sintjoriskerk-amersfoort.nl/events/bezinningsmoment-2/
END:VEVENT
END:VCALENDAR