BEGIN:VCALENDAR
VERSION:2.0
PRODID:-//eventon.com NONSGML v1.0//EN
CALSCALE:GREGORIAN
METHOD:PUBLISH
BEGIN:VEVENT
UID:69e78970d92d1
DTSTAMP:20260421T142800Z
DTSTART:20231003T040000Z
DTEND:20231003T064500Z
LOCATION:
SUMMARY:Seniorenmiddag
DESCRIPTION:Op DV maandag 2 oktober willen we om 17.00 uur met elkaar panne
 nkoeken gaan eten bij Pannenkoekenrestaurant De Gillende Keukenmeid inHoeve
 laken. Verdere informatie over vervoer en aanmelding volgt later.\nhttps://
 sintjoriskerk-amersfoort.nl/events/seniorenmiddag-2/
URL:https://sintjoriskerk-amersfoort.nl/events/seniorenmiddag-2/
END:VEVENT
END:VCALENDAR