BEGIN:VCALENDAR
VERSION:2.0
PRODID:-//eventon.com NONSGML v1.0//EN
CALSCALE:GREGORIAN
METHOD:PUBLISH
BEGIN:VEVENT
UID:69e778836513c
DTSTAMP:20260421T131547Z
DTSTART:20231031T013000Z
DTEND:20231031T040000Z
LOCATION:Filalethes\,  Havik 29\,  3811 EX Amersfoort Havik 29\,  3811 EX Amersfoort
SUMMARY:Seniorenmiddag
DESCRIPTION:Op DV maandag 30 oktober is er weer een reguliere seniorenmidda
 g in Filalethes en verwelkomen we Peter en Riek. Zij hopen hun ervaringen v
 an deachterliggende periode in Centraal-Azië met ons te delen.\nhttps://si
 ntjoriskerk-amersfoort.nl/events/seniorenmiddag-3/
URL:https://sintjoriskerk-amersfoort.nl/events/seniorenmiddag-3/
END:VEVENT
END:VCALENDAR