BEGIN:VCALENDAR
VERSION:2.0
PRODID:-//eventon.com NONSGML v1.0//EN
CALSCALE:GREGORIAN
METHOD:PUBLISH
BEGIN:VEVENT
UID:69e762112baab
DTSTAMP:20260421T114001Z
DTSTART:20231028T220000Z
DTEND:20231029T030000Z
LOCATION:De Brug Schuilenburgerweg 2
SUMMARY:Brocante markt 28 oktober
DESCRIPTION:\nhttps://sintjoriskerk-amersfoort.nl/events/brocante-markt-28-
 oktober/
URL:https://sintjoriskerk-amersfoort.nl/events/brocante-markt-28-oktober/
END:VEVENT
END:VCALENDAR