BEGIN:VCALENDAR
VERSION:2.0
PRODID:-//eventon.com NONSGML v1.0//EN
CALSCALE:GREGORIAN
METHOD:PUBLISH
BEGIN:VEVENT
UID:69e5e09becfb3
DTSTAMP:20260420T081523Z
DTSTART:20240422T044500Z
DTEND:20240422T060000Z
LOCATION:Filalethes\,  Havik 29\,  3811 EX Amersfoort Havik 29\,  3811 EX Amersfoort
SUMMARY:Basiscatechese
DESCRIPTION:De basiscatechese is voor kinderen van groep 7 en 8 van de basi
 sschool. Het doel van basiscatechese is samen God te leren kennen door de B
 ijbel. We gebruiken hiervoor de methode ‘On Track!’ van de HGJB. Dit se
 izoen staat het Nieuwe Testament centraal. Basiscatechese vindt plaats tijd
 ens de avonddiensten van[..]\nhttps://sintjoriskerk-amersfoort.nl/events/ba
 siscatechese-8/
URL:https://sintjoriskerk-amersfoort.nl/events/basiscatechese-8/
END:VEVENT
END:VCALENDAR