BEGIN:VCALENDAR
VERSION:2.0
PRODID:-//eventon.com NONSGML v1.0//EN
CALSCALE:GREGORIAN
METHOD:PUBLISH
BEGIN:VEVENT
UID:69e74995533b2
DTSTAMP:20260421T095533Z
DTSTART:20231208T013000Z
DTEND:20231208T040000Z
LOCATION:Reigerstraat 22\,  3816 AX Amersfoort Reigerstraat 22
SUMMARY:Bijbelkring
DESCRIPTION:Welkom bij de Bijbelkring. Deze Bijbelkring is er vooral voor m
 ensen die wat ouder zijn. Voor vragen en meer informatie neem contact op Te
 us Lam. Via lamvinke@lamvinke.nl.\nhttps://sintjoriskerk-amersfoort.nl/even
 ts/bijbelkring-4/
URL:https://sintjoriskerk-amersfoort.nl/events/bijbelkring-4/
END:VEVENT
END:VCALENDAR