BEGIN:VCALENDAR
VERSION:2.0
PRODID:-//eventon.com NONSGML v1.0//EN
CALSCALE:GREGORIAN
METHOD:PUBLISH
BEGIN:VEVENT
UID:69e74a0e70434
DTSTAMP:20260421T095734Z
DTSTART:20231002T013000Z
DTEND:20231002T033000Z
LOCATION:Sint Joriskerk\,  Hof 1\,  3811 CJ Amersfoort Hof 1 3811 CJ Amersfoort
SUMMARY:Open Kerk
DESCRIPTION:Iedere zondagmiddag staan de deuren van de Joriskerk ook open t
 ussen 14.30 en 16.30. Iedereen is welkom om gewoon even rond te kijken en t
 e genieten van de rust en schoonheid van ons mooie kerkgebouw. Als gastheer
  of gastvrouw  heten we bezoekers welkom en zijn we laagdrempelig beschikb
 aar voor een[..]\nhttps://sintjoriskerk-amersfoort.nl/events/open-kerk/
URL:https://sintjoriskerk-amersfoort.nl/events/open-kerk/
END:VEVENT
END:VCALENDAR