BEGIN:VCALENDAR
VERSION:2.0
PRODID:-//eventon.com NONSGML v1.0//EN
CALSCALE:GREGORIAN
METHOD:PUBLISH
BEGIN:VEVENT
UID:69e5de07ca822
DTSTAMP:20260420T080423Z
DTSTART:20240126T054500Z
DTEND:20240126T083000Z
LOCATION:Filalethes\,  Havik 29\,  3811 EX Amersfoort Havik 29\,  3811 EX Amersfoort
SUMMARY:Alpha cursus
DESCRIPTION:Op Alpha ontdek je het christelijk geloof op een eenvoudige en 
 gezellige manier. Een Alpha bijeenkomst bestaat uit 3 onderdelen: 1. Eten; 
 Tijdens het eten heb je tijd om nieuwe mensen te leren kennen en vriendscha
 ppen op te bouwen.2. Inleiding; Elke week wordt er tijdens de Inleiding een
  thema van[..]\nhttps://sintjoriskerk-amersfoort.nl/events/alpha-cursus/
URL:https://sintjoriskerk-amersfoort.nl/events/alpha-cursus/
END:VEVENT
END:VCALENDAR