BEGIN:VCALENDAR
VERSION:2.0
PRODID:-//eventon.com NONSGML v1.0//EN
CALSCALE:GREGORIAN
METHOD:PUBLISH
BEGIN:VEVENT
UID:69e747d723a3a
DTSTAMP:20260421T094807Z
DTSTART:20250111T060000Z
DTEND:20250111T064500Z
LOCATION:Filalethes\,  Havik 29\,  3811 EX Amersfoort Havik 29\,  3811 EX Amersfoort
SUMMARY:Gebedskring
DESCRIPTION:Een gemeente die leeft\,  is een gemeente die bidt. Dat willen 
 we\,  naast onze persoonlijke gebeden\,  ook als gemeente samen doen. Samen
  onze gebeden uitspreken tot onze God. Hij wil dat we met Hem spreken en al
  onze zorgen\,  behoeften en dank aan Hem laten weten. We komen volgens een
 [..]\nhttps://sintjoriskerk-amersfoort.nl/events/gebedskring-10/
URL:https://sintjoriskerk-amersfoort.nl/events/gebedskring-10/
END:VEVENT
END:VCALENDAR