BEGIN:VCALENDAR
VERSION:2.0
PRODID:-//eventon.com NONSGML v1.0//EN
CALSCALE:GREGORIAN
METHOD:PUBLISH
BEGIN:VEVENT
UID:69e747976d067
DTSTAMP:20260421T094703Z
DTSTART:20240912T190000Z
DTEND:20240912T220000Z
LOCATION:Filalethes\,  Havik 29\,  3811 EX Amersfoort Havik 29\,  3811 EX Amersfoort
SUMMARY:Alpha Proeverij
DESCRIPTION:Voorafgaand aan de cursus organiseren we op donderdag 12 septem
 ber 2024 een Alpha Proeverij. Dit is een kennismakingsavond waar je vrijbli
 jvend kunt ervaren wat de Alpha Cursus inhoudt en wat je kunt verwachten. A
 anmelden en informatie alphajoriskerk@gmail.com.\nhttps://sintjoriskerk-ame
 rsfoort.nl/events/alpha-proeverij-2/
URL:https://sintjoriskerk-amersfoort.nl/events/alpha-proeverij-2/
END:VEVENT
END:VCALENDAR