BEGIN:VCALENDAR
VERSION:2.0
PRODID:-//eventon.com NONSGML v1.0//EN
CALSCALE:GREGORIAN
METHOD:PUBLISH
BEGIN:VEVENT
UID:69e749d9ed29f
DTSTAMP:20260421T095641Z
DTSTART:20240921T160000Z
DTEND:20240921T190000Z
LOCATION:GSG Guido Paladijnenweg 251
SUMMARY:Gemeentemiddag
DESCRIPTION:Welkom op de gemeentemiddag van 16.00 tot 19.00 uur bij GSG Gui
 do aan de Paladijnenweg 251. Aanmelden kan via gemeentedagjoriskerk@outlook
 .com.\nhttps://sintjoriskerk-amersfoort.nl/events/gemeentemiddag/
URL:https://sintjoriskerk-amersfoort.nl/events/gemeentemiddag/
END:VEVENT
END:VCALENDAR