BEGIN:VCALENDAR
VERSION:2.0
PRODID:-//eventon.com NONSGML v1.0//EN
CALSCALE:GREGORIAN
METHOD:PUBLISH
BEGIN:VEVENT
UID:69e5e0f1d7c5e
DTSTAMP:20260420T081649Z
DTSTART:20241213T190000Z
DTEND:20241213T203000Z
LOCATION:Filalethes\,  Havik 29\,  3811 EX Amersfoort Havik 29\,  3811 EX Amersfoort
SUMMARY:Clubavond voor Agapè
DESCRIPTION:Voor jongeren van klas 3 en 4 van de middelbare school is de cl
 ubavond op zondagavond in ons wijkgebouw Filalethes. Soms is het een vrijda
 gavond vanwege de activiteit. Van harte welkom.\nhttps://sintjoriskerk-amer
 sfoort.nl/events/clubavond-voor-agape-7/
URL:https://sintjoriskerk-amersfoort.nl/events/clubavond-voor-agape-7/
END:VEVENT
END:VCALENDAR