BEGIN:VCALENDAR
VERSION:2.0
PRODID:-//eventon.com NONSGML v1.0//EN
CALSCALE:GREGORIAN
METHOD:PUBLISH
BEGIN:VEVENT
UID:69e7622c84e48
DTSTAMP:20260421T114028Z
DTSTART:20241114T200000Z
DTEND:20241114T220000Z
LOCATION:Adventcentrum\,  Ringweg Kruiskamp 74 Amersfoort Adventcentrum\,  Ringweg Kruiskamp 74 Amersfoort
SUMMARY:Lezing: Hoop voor Israël
DESCRIPTION:Drs. Albert Groothedde houdt op donderdag 14 november een lezin
 g over het onderwerp ‘Hoop voor Israël’. Eerst deelt hij vanuit een in
 side-perspectief het nodige over de actualiteit. Vervolgens zoomt hij in op
  twee bijzondere groepen in de Israëlische samenleving: Arabische christen
 en en Messiasbelijdende Joden. In de lezingen maken we kennis[..]\nhttps://
 sintjoriskerk-amersfoort.nl/events/lezing-hoop-voor-israel/
URL:https://sintjoriskerk-amersfoort.nl/events/lezing-hoop-voor-israel/
END:VEVENT
END:VCALENDAR