BEGIN:VCALENDAR
VERSION:2.0
PRODID:-//eventon.com NONSGML v1.0//EN
CALSCALE:GREGORIAN
METHOD:PUBLISH
BEGIN:VEVENT
UID:69e7620aa5bc7
DTSTAMP:20260421T113954Z
DTSTART:20241224T174500Z
DTEND:20241224T200000Z
LOCATION:Filalethes\,  Havik 29\,  3811 EX Amersfoort Havik 29\,  3811 EX Amersfoort
SUMMARY:Kerstmaaltijd
DESCRIPTION:Vier kerst met ons mee tijdens onze kerstmaaltijd! Net als voor
 gaande jaren staan op kerstavond dinsdag 24 december vanaf 17.45 de deuren 
 van Filalethes open voor iedereen in Amersfoort die zin heeft in een heerli
 jke maaltijd en gezelligheid. Welke buur\,  vriend of kennis neem jij mee? 
 Er ijn geen kosten[..]\nhttps://sintjoriskerk-amersfoort.nl/events/kerstmaa
 ltijd/
URL:https://sintjoriskerk-amersfoort.nl/events/kerstmaaltijd/
END:VEVENT
END:VCALENDAR