BEGIN:VCALENDAR
VERSION:2.0
PRODID:-//eventon.com NONSGML v1.0//EN
CALSCALE:GREGORIAN
METHOD:PUBLISH
BEGIN:VEVENT
UID:69e74995dba87
DTSTAMP:20260421T095533Z
DTSTART:20241224T220000Z
DTEND:20241224T230000Z
LOCATION:Sint Joriskerk\,  Hof 1\,  3811 CJ Amersfoort Hof 1 3811 CJ Amersfoort
SUMMARY:Kerstnachtdienst
DESCRIPTION:Dinsdag 24 december om 22.00 uur vindt in de Sint-Joriskerk in 
 Amersfoort de Kerstnachtdienst plaats. Het thema is: â€˜God in ons midden?â
 €™Â  Muzikale medewerking verlenen het Ars Musica Studentenkoor en organist
  Rien Donkersloot. Het koor zingt Engelse Christmas Carols en bezoekers kri
 jgen volop gelegenheid mee te zingen met bekende kerstliederen.[..]\nhttps:
 //sintjoriskerk-amersfoort.nl/events/kerstnachtdienst/
URL:https://sintjoriskerk-amersfoort.nl/events/kerstnachtdienst/
END:VEVENT
END:VCALENDAR