BEGIN:VCALENDAR
VERSION:2.0
PRODID:-//eventon.com NONSGML v1.0//EN
CALSCALE:GREGORIAN
METHOD:PUBLISH
BEGIN:VEVENT
UID:69e7381a20c86
DTSTAMP:20260421T084058Z
DTSTART:20250215T150000Z
DTEND:20250215T183000Z
LOCATION:Sint Joriskerk\,  Hof 1\,  3811 CJ Amersfoort Hof 1 3811 CJ Amersfoort
SUMMARY:Viering 15 jarig jubileum Protestantse Gemeente Amersfoort
DESCRIPTION:De Protestantse gemeente te Amersfoort (PGA) bestaat 15 jaar. D
 ankbaar willen wij dit jubileum gedenken en vieren op zaterdag 15 februari 
 a.s. vanaf 15.00 uur in de Sint-Joriskerk\,  met een feestelijk programma: 
 15.00 &#8211; 16.30 uur: Bijeenkomst met medewerking van Arnoud Looijen\,  
 voormalig scriba van de PGA. Hij presenteert een[..]\nhttps://sintjoriskerk
 -amersfoort.nl/events/viering-15-jarig-jubileum-protestantse-gemeente-amers
 foort/
URL:https://sintjoriskerk-amersfoort.nl/events/viering-15-jarig-jubileum-protestantse-gemeente-amersfoort/
END:VEVENT
END:VCALENDAR