BEGIN:VCALENDAR
VERSION:2.0
PRODID:-//eventon.com NONSGML v1.0//EN
CALSCALE:GREGORIAN
METHOD:PUBLISH
BEGIN:VEVENT
UID:69e749c718413
DTSTAMP:20260421T095623Z
DTSTART:20250123T190000Z
DTEND:20250123T220000Z
LOCATION:Filalethes\,  Havik 29\,  3811 EX Amersfoort Havik 29\,  3811 EX Amersfoort
SUMMARY:Alpha cursus
DESCRIPTION:Ben je op zoek naar antwoorden op levensvragen\,  nieuwsgierig 
 naar het christelijk geloof\,  of wil je jouw geloof verdiepen? Dan is de 
 Alpha Cursus iets voor jou! De Alpha Cursus is een laagdrempelige en inspi
 rerende cursus die in een ontspannen sfeer plaatsvindt. Samen met anderen b
 espreek je wekelijks thema&#8217;s zoals:&#8211; Wie is[..]\nhttps://sintjo
 riskerk-amersfoort.nl/events/alpha-cursus-3/
URL:https://sintjoriskerk-amersfoort.nl/events/alpha-cursus-3/
END:VEVENT
END:VCALENDAR