BEGIN:VCALENDAR
VERSION:2.0
PRODID:-//eventon.com NONSGML v1.0//EN
CALSCALE:GREGORIAN
METHOD:PUBLISH
BEGIN:VEVENT
UID:69e7622c7a7fb
DTSTAMP:20260421T114028Z
DTSTART:20250402T200000Z
DTEND:20250402T220000Z
LOCATION:Adventcentrum\,  Ringweg Kruiskamp 74 Amersfoort Adventcentrum\,  Ringweg Kruiskamp 74 Amersfoort
SUMMARY:Israël\,  de Palestijnen: tragiek en belofte
DESCRIPTION:Andries Knevel\,  theoloog\,  schrijver en presentator houdt op
  woensdag 2 april een lezing in het Adventcentrum. Andries gaat in vogelvlu
 cht door de geschiedenis vanaf 1896\,  toen Theodor Herzl het boek ‘der J
 udenstaat’ publiceerde\,  naar nu. Wat zegt de Bijbel eigenlijk over Isra
 ël\,  land en staat\,  of zegt de Bijbel helemaal[..]\nhttps://sintjoriske
 rk-amersfoort.nl/events/israel-de-palestijnen-tragiek-en-belofte/
URL:https://sintjoriskerk-amersfoort.nl/events/israel-de-palestijnen-tragiek-en-belofte/
END:VEVENT
END:VCALENDAR