BEGIN:VCALENDAR
VERSION:2.0
PRODID:-//eventon.com NONSGML v1.0//EN
CALSCALE:GREGORIAN
METHOD:PUBLISH
BEGIN:VEVENT
UID:69e74986269b0
DTSTAMP:20260421T095518Z
DTSTART:20250416T200000Z
DTEND:20250416T220000Z
LOCATION:Filalethes\,  Havik 29\,  3811 EX Amersfoort Havik 29\,  3811 EX Amersfoort
SUMMARY:Spelletjesavond
DESCRIPTION:Op woensdag 16 april zal er in Filalethes een spelletjesavond p
 laatsvinden van 20.00 &#8211; 22.00 uur\,  georganiseerd door de 18+ catech
 isatiegroep. Koffie\,  thee\,  fris\,  snacks en spelletjes worden geregeld
 . Het enige wat wij van jullie vragen is om gezelligheid en eventueel een e
 igen spel mee te nemen. Iedereen is van[..]\nhttps://sintjoriskerk-amersfoo
 rt.nl/events/spelletjesavond/
URL:https://sintjoriskerk-amersfoort.nl/events/spelletjesavond/
END:VEVENT
END:VCALENDAR