BEGIN:VCALENDAR
VERSION:2.0
PRODID:-//eventon.com NONSGML v1.0//EN
CALSCALE:GREGORIAN
METHOD:PUBLISH
BEGIN:VEVENT
UID:69e9e77270dd2
DTSTAMP:20260423T093338Z
DTSTART:20251104T200000Z
DTEND:20251104T220000Z
LOCATION:Filalethes\,  Havik 29\,  3811 EX Amersfoort Havik 29\,  3811 EX Amersfoort
SUMMARY:Studiekring
DESCRIPTION:De studiekring buigt zich over het boek â€˜De weg van de vredeâ
 €™ geschreven door Stefan Paas.\nhttps://sintjoriskerk-amersfoort.nl/events
 /studiekring-8/
URL:https://sintjoriskerk-amersfoort.nl/events/studiekring-8/
END:VEVENT
END:VCALENDAR