BEGIN:VCALENDAR
VERSION:2.0
PRODID:-//eventon.com NONSGML v1.0//EN
CALSCALE:GREGORIAN
METHOD:PUBLISH
BEGIN:VEVENT
UID:69e747d7255ef
DTSTAMP:20260421T094807Z
DTSTART:20251112T200000Z
DTEND:20251112T220000Z
LOCATION:Adventcentrum\,  Ringweg Kruiskamp 74 Amersfoort Adventcentrum\,  Ringweg Kruiskamp 74 Amersfoort
SUMMARY:Lezing Christian Stier
DESCRIPTION:Wat zeggen de profetieën over de toekomst van Israël? In 2010
  schreef rabbijn Lody van de Kamp in een artikel: Waarom nemen kerken zo kl
 akkeloos aan dat de seculiere staat Israël de vervulling is van Bijbelse p
 rofetieën? Deze woorden riepen bij Christian Stier vragen op. Heeft de rab
 bijn gelijk? Passen[..]\nhttps://sintjoriskerk-amersfoort.nl/events/lezing-
 christian-stier/
URL:https://sintjoriskerk-amersfoort.nl/events/lezing-christian-stier/
END:VEVENT
END:VCALENDAR