BEGIN:VCALENDAR
VERSION:2.0
PRODID:-//eventon.com NONSGML v1.0//EN
CALSCALE:GREGORIAN
METHOD:PUBLISH
BEGIN:VEVENT
UID:69e737d0a4632
DTSTAMP:20260421T083944Z
DTSTART:20260212T183000Z
DTEND:20260212T220000Z
LOCATION:Filalethes\,  Havik 29\,  3811 EX Amersfoort Havik 29\,  3811 EX Amersfoort
SUMMARY:Alpha cursus
DESCRIPTION:Welkom bij de Alpha cursus. Wil je nog aansluiten? Neem contact
  op met alpa.joriskerk@gmail.com\nhttps://sintjoriskerk-amersfoort.nl/event
 s/alpha-cursus-4/var/ri-2.l-L1
URL:https://sintjoriskerk-amersfoort.nl/events/alpha-cursus-4/var/ri-2.l-L1
END:VEVENT
END:VCALENDAR