BEGIN:VCALENDAR
VERSION:2.0
PRODID:-//eventon.com NONSGML v1.0//EN
CALSCALE:GREGORIAN
METHOD:PUBLISH
BEGIN:VEVENT
UID:69e7381af0540
DTSTAMP:20260421T084058Z
DTSTART:20260224T200000Z
DTEND:20260224T220000Z
LOCATION:Adventkerk Ringweg Kruiskamp 74\,  3814 TE  Amersfoort
SUMMARY:Ambtsdragersvergadering met de straatpastor
DESCRIPTION:De jaarlijkse vergadering voor alle ambtsdragers in de PGA is o
 p dinsdag 24 februari 2026\,  om 20.00 uur in de Adventkerk\,  Ringweg Krui
 skamp 74. Straatpastor Bernadette van Dijk van Stichting Straatpastoraat Am
 ersfoort geeft een presentatie over haar werk\,  aansluitend gaan wij met h
 aar in gesprek. Ook gasten zijn welkom\,  wel[..]\nhttps://sintjoriskerk-am
 ersfoort.nl/events/ambtsdragersvergadering-met-de-straatpastor/
URL:https://sintjoriskerk-amersfoort.nl/events/ambtsdragersvergadering-met-de-straatpastor/
END:VEVENT
END:VCALENDAR