BEGIN:VCALENDAR
VERSION:2.0
PRODID:-//eventon.com NONSGML v1.0//EN
CALSCALE:GREGORIAN
METHOD:PUBLISH
BEGIN:VEVENT
UID:69e7380806ff7
DTSTAMP:20260421T084040Z
DTSTART:20260210T200000Z
DTEND:20260210T220000Z
LOCATION:Filalethes\,  Havik 29\,  3811 EX Amersfoort Havik 29\,  3811 EX Amersfoort
SUMMARY:Ontmoetingsavond nieuwe leden
DESCRIPTION:Bent u een nieuw lid of overweegt u om lid te worden? Op dinsda
 g 10 februari bent u van harte welkom voor een avond met ontmoeting\,  kenn
 ismaking en informatie over onzewijkgemeente. Om 20.00 uur ontvangen we u g
 raag met koffie en thee in Filalethes. Graag aanmelden bij diaken Frank van
 [..]\nhttps://sintjoriskerk-amersfoort.nl/events/ontmoetingsavond-nieuwe-le
 den/
URL:https://sintjoriskerk-amersfoort.nl/events/ontmoetingsavond-nieuwe-leden/
END:VEVENT
END:VCALENDAR