BEGIN:VCALENDAR
VERSION:2.0
PRODID:-//eventon.com NONSGML v1.0//EN
CALSCALE:GREGORIAN
METHOD:PUBLISH
BEGIN:VEVENT
UID:69e746491d28a
DTSTAMP:20260421T094129Z
DTSTART:20260224T200000Z
DTEND:20260224T220000Z
LOCATION:Kruispunt Vathorst Terschellingkade 22\,  3826 DJ Amersfoort
SUMMARY:Interkerkelijke jeugdleidersavond
DESCRIPTION:De wereld verandert\,  het leven van jongeren is dynamisch. Daa
 rin horen we zowel hoopvolle verhalen als ook zorgelijke ontwikkelingen. Ho
 e kan je als jeugdleider putten uit je eigen traditie en tegelijk openstaan
  voor nieuwe ervaringen om deze jonge generatie te dienen? Welke taal geef 
 je aan geloof en hoe leidt[..]\nhttps://sintjoriskerk-amersfoort.nl/events/
 interkerkelijke-jeugdleidersavond/
URL:https://sintjoriskerk-amersfoort.nl/events/interkerkelijke-jeugdleidersavond/
END:VEVENT
END:VCALENDAR