BEGIN:VCALENDAR
VERSION:2.0
PRODID:-//eventon.com NONSGML v1.0//EN
CALSCALE:GREGORIAN
METHOD:PUBLISH
BEGIN:VEVENT
UID:69e756c542d47
DTSTAMP:20260421T105149Z
DTSTART:20260301T153000Z
DTEND:20260301T161500Z
LOCATION:Sint Joriskerk\,  Hof 1\,  3811 CJ Amersfoort Hof 1 3811 CJ Amersfoort
SUMMARY:Evensong in de Veertigdagentijd
DESCRIPTION:Op de eerste drie zondagen van de Veertigdagentijd vindt ‘s m
 iddags om 15:30 uur\,  in de St. Joriskerk een Choral Evensong plaats. De E
 vensong duurt ruim drie kwartier en is vrij toegankelijk (collecte na afloo
 p en via QR-code). Van harte welkom in de eeuwenoude ruimte van de Sint-Jor
 iskerk! Zie ook[..]\nhttps://sintjoriskerk-amersfoort.nl/events/evensong-in
 -de-veertigdagentijd/var/ri-1.l-L1
URL:https://sintjoriskerk-amersfoort.nl/events/evensong-in-de-veertigdagentijd/var/ri-1.l-L1
END:VEVENT
END:VCALENDAR